BEGIN:VCALENDAR
VERSION:2.0
PRODID:-//Periòdic digital - ECPv6.15.20//NONSGML v1.0//EN
CALSCALE:GREGORIAN
METHOD:PUBLISH
X-ORIGINAL-URL:https://elfesterxixonenc.es
X-WR-CALDESC:Esdeveniments per Periòdic digital
REFRESH-INTERVAL;VALUE=DURATION:PT1H
X-Robots-Tag:noindex
X-PUBLISHED-TTL:PT1H
BEGIN:VTIMEZONE
TZID:UTC
BEGIN:STANDARD
TZOFFSETFROM:+0000
TZOFFSETTO:+0000
TZNAME:UTC
DTSTART:20250101T000000
END:STANDARD
END:VTIMEZONE
BEGIN:VEVENT
DTSTART;TZID=UTC:20260425T103000
DTEND;TZID=UTC:20260425T150000
DTSTAMP:20260423T181428
CREATED:20260422T183301Z
LAST-MODIFIED:20260422T183301Z
UID:3658-1777113000-1777129200@elfesterxixonenc.es
SUMMARY:ENTRADA DE MOROS i CRISTIANS D'ALCOI
DESCRIPTION:
URL:https://elfesterxixonenc.es/event/entrada-de-moros-i-cristians-dalcoi/
LOCATION:ALCOI\, Spain
END:VEVENT
END:VCALENDAR